BEGIN:VCALENDAR
VERSION:2.0
PRODID:-//IBP - ECPv6.15.11//NONSGML v1.0//EN
CALSCALE:GREGORIAN
METHOD:PUBLISH
X-ORIGINAL-URL:https://ibp.org.uk
X-WR-CALDESC:Events for IBP
REFRESH-INTERVAL;VALUE=DURATION:PT1H
X-Robots-Tag:noindex
X-PUBLISHED-TTL:PT1H
BEGIN:VTIMEZONE
TZID:Europe/London
BEGIN:DAYLIGHT
TZOFFSETFROM:+0000
TZOFFSETTO:+0100
TZNAME:BST
DTSTART:20060326T010000
END:DAYLIGHT
BEGIN:STANDARD
TZOFFSETFROM:+0100
TZOFFSETTO:+0000
TZNAME:GMT
DTSTART:20061029T010000
END:STANDARD
BEGIN:DAYLIGHT
TZOFFSETFROM:+0000
TZOFFSETTO:+0100
TZNAME:BST
DTSTART:20070325T010000
END:DAYLIGHT
BEGIN:STANDARD
TZOFFSETFROM:+0100
TZOFFSETTO:+0000
TZNAME:GMT
DTSTART:20071028T010000
END:STANDARD
BEGIN:DAYLIGHT
TZOFFSETFROM:+0000
TZOFFSETTO:+0100
TZNAME:BST
DTSTART:20080330T010000
END:DAYLIGHT
BEGIN:STANDARD
TZOFFSETFROM:+0100
TZOFFSETTO:+0000
TZNAME:GMT
DTSTART:20081026T010000
END:STANDARD
END:VTIMEZONE
BEGIN:VEVENT
DTSTART;TZID=Europe/London:20071127T183000
DTEND;TZID=Europe/London:20071127T220000
DTSTAMP:20260424T083913
CREATED:20081127T103610Z
LAST-MODIFIED:20150219T103753Z
UID:1415-1196188200-1196200800@ibp.org.uk
SUMMARY:IBP Annual National Journalism Awards 2008
DESCRIPTION:
URL:https://ibp.org.uk/event/ibp-annual-national-journalism-awards-2008/
LOCATION:Four Seasons Hotel\, Hamilton Place \, London\,  W1J 7DR\, United Kingdom
ORGANIZER;CN="Gerald Bowey":MAILTO:gerald@Geraldbowey.co.uk
END:VEVENT
BEGIN:VEVENT
DTSTART;TZID=Europe/London:20071122T183000
DTEND;TZID=Europe/London:20071122T220000
DTSTAMP:20260424T083913
CREATED:20071122T100045Z
LAST-MODIFIED:20150219T100302Z
UID:1398-1195756200-1195768800@ibp.org.uk
SUMMARY:IBP Annual National Journalism Awards 2007
DESCRIPTION:
URL:https://ibp.org.uk/event/ibp-annual-national-journalism-awards-2007/
LOCATION:Four Seasons Hotel\, Hamilton Place \, London\,  W1J 7DR\, United Kingdom
ORGANIZER;CN="Gerald Bowey":MAILTO:gerald@Geraldbowey.co.uk
END:VEVENT
BEGIN:VEVENT
DTSTART;TZID=Europe/London:20071025T183000
DTEND;TZID=Europe/London:20071025T220000
DTSTAMP:20260424T083913
CREATED:20071025T090311Z
LAST-MODIFIED:20150219T101139Z
UID:1399-1193337000-1193349600@ibp.org.uk
SUMMARY:IBP Regional Journalism Awards Lunch and Presentation
DESCRIPTION:The annual International Building Press (IBP) Regional Journalism awards continued to grow in stature with a record number of entries for this year’s event.
URL:https://ibp.org.uk/event/ibp-regional-journalism-awards-lunch-and-presentation/
LOCATION:Lowry Gallery\, Sallford Quays\, Manchester\, M50 3AZ\, United Kingdom
ATTACH;FMTTYPE=image/jpeg:https://ibp.org.uk/wp-content/uploads/2015/02/LowryCentre.jpg
ORGANIZER;CN="Gerald Bowey":MAILTO:gerald@Geraldbowey.co.uk
END:VEVENT
BEGIN:VEVENT
DTSTART;TZID=Europe/London:20071020T183000
DTEND;TZID=Europe/London:20071020T220000
DTSTAMP:20260424T083913
CREATED:20071020T091000Z
LAST-MODIFIED:20150219T101409Z
UID:1402-1192905000-1192917600@ibp.org.uk
SUMMARY:IBP Question Time
DESCRIPTION:
URL:https://ibp.org.uk/event/ibp-question-time/
LOCATION:Four Seasons Hotel\, Hamilton Place \, London\,  W1J 7DR\, United Kingdom
ORGANIZER;CN="Gerald Bowey":MAILTO:gerald@Geraldbowey.co.uk
END:VEVENT
BEGIN:VEVENT
DTSTART;TZID=Europe/London:20070927T183000
DTEND;TZID=Europe/London:20070927T220000
DTSTAMP:20260424T083913
CREATED:20070927T091417Z
LAST-MODIFIED:20150219T102035Z
UID:1403-1190917800-1190930400@ibp.org.uk
SUMMARY:IBP Communications Masterclass
DESCRIPTION:
URL:https://ibp.org.uk/event/ibp-communications-masterclass/
LOCATION:The Building Centre\, 26 Store Street\, London\, WC1E 7BT\, United Kingdom
ATTACH;FMTTYPE=image/jpeg:https://ibp.org.uk/wp-content/uploads/2015/02/building-centre.jpg
ORGANIZER;CN="Gerald Bowey":MAILTO:gerald@Geraldbowey.co.uk
END:VEVENT
BEGIN:VEVENT
DTSTART;TZID=Europe/London:20070727T183000
DTEND;TZID=Europe/London:20070727T220000
DTSTAMP:20260424T083913
CREATED:20070727T092234Z
LAST-MODIFIED:20150219T102426Z
UID:1407-1185561000-1185573600@ibp.org.uk
SUMMARY:IBP Annual Summer Dinner 2007
DESCRIPTION:Presentation of the ‘In House Magazine of the Year’ Awards
URL:https://ibp.org.uk/event/ibp-annual-summer-dinner-2007/
ORGANIZER;CN="Gerald Bowey":MAILTO:gerald@Geraldbowey.co.uk
END:VEVENT
BEGIN:VEVENT
DTSTART;TZID=Europe/London:20070712T080000
DTEND;TZID=Europe/London:20070712T170000
DTSTAMP:20260424T083913
CREATED:20070712T092050Z
LAST-MODIFIED:20150219T102202Z
UID:1406-1184227200-1184259600@ibp.org.uk
SUMMARY:IBP AGM 2007
DESCRIPTION:
URL:https://ibp.org.uk/event/ibp-agm-2007/
LOCATION:The Building Centre\, 26 Store Street\, London\, WC1E 7BT\, United Kingdom
ORGANIZER;CN="Gerald Bowey":MAILTO:gerald@Geraldbowey.co.uk
END:VEVENT
BEGIN:VEVENT
DTSTART;TZID=Europe/London:20070614T080000
DTEND;TZID=Europe/London:20070614T170000
DTSTAMP:20260424T083913
CREATED:20070614T092454Z
LAST-MODIFIED:20150219T102600Z
UID:1408-1181808000-1181840400@ibp.org.uk
SUMMARY:IBP Communications Masterclass
DESCRIPTION:
URL:https://ibp.org.uk/event/ibp-communications-masterclass-2/
LOCATION:The Building Centre\, 26 Store Street\, London\, WC1E 7BT\, United Kingdom
ORGANIZER;CN="Gerald Bowey":MAILTO:gerald@Geraldbowey.co.uk
END:VEVENT
BEGIN:VEVENT
DTSTART;TZID=Europe/London:20070222T183000
DTEND;TZID=Europe/London:20070222T230000
DTSTAMP:20260424T083913
CREATED:20070222T102619Z
LAST-MODIFIED:20150219T103006Z
UID:1409-1172169000-1172185200@ibp.org.uk
SUMMARY:IBP Chinese New Year 2007
DESCRIPTION:‘Communicators host a Journalist’
URL:https://ibp.org.uk/event/ibp-chinese-new-year-2007/
LOCATION:New World Chinese Restaurant\, 1 Gerrard Place\, London\, W1D 5PA\, United Kingdom
ATTACH;FMTTYPE=image/jpeg:https://ibp.org.uk/wp-content/uploads/2015/02/new-world-chinese-restaurant.jpg
ORGANIZER;CN="Gerald Bowey":MAILTO:gerald@Geraldbowey.co.uk
END:VEVENT
BEGIN:VEVENT
DTSTART;TZID=Europe/London:20070129T183000
DTEND;TZID=Europe/London:20070129T210000
DTSTAMP:20260424T083913
CREATED:20070129T103034Z
LAST-MODIFIED:20150219T103520Z
UID:1412-1170095400-1170104400@ibp.org.uk
SUMMARY:Politics and Planning - Compromise or Crisis
DESCRIPTION:The recently published Barker report\, by economist Kate Barker\, proposes radical new thinking on the use of the Green Belt and presupposes that private house builders will flood the market with new houses to bring the price of house down! \nBut does the report create more problems than solutions and will the Government even listen? \nIn association with the All-Party Built Environment Group
URL:https://ibp.org.uk/event/politics-and-planning-compromise-or-crisis/
LOCATION:The Houses of Parliament\, Westminster\,  London\,  SW1A 0AA\, United Kingdom
ATTACH;FMTTYPE=image/jpeg:https://ibp.org.uk/wp-content/uploads/2015/02/houses-of-parliament.jpg
ORGANIZER;CN="Gerald Bowey":MAILTO:gerald@Geraldbowey.co.uk
END:VEVENT
END:VCALENDAR