BEGIN:VCALENDAR
VERSION:2.0
PRODID:-//IBP - ECPv6.15.11//NONSGML v1.0//EN
CALSCALE:GREGORIAN
METHOD:PUBLISH
X-ORIGINAL-URL:https://ibp.org.uk
X-WR-CALDESC:Events for IBP
REFRESH-INTERVAL;VALUE=DURATION:PT1H
X-Robots-Tag:noindex
X-PUBLISHED-TTL:PT1H
BEGIN:VTIMEZONE
TZID:Europe/London
BEGIN:DAYLIGHT
TZOFFSETFROM:+0000
TZOFFSETTO:+0100
TZNAME:BST
DTSTART:20080330T010000
END:DAYLIGHT
BEGIN:STANDARD
TZOFFSETFROM:+0100
TZOFFSETTO:+0000
TZNAME:GMT
DTSTART:20081026T010000
END:STANDARD
BEGIN:DAYLIGHT
TZOFFSETFROM:+0000
TZOFFSETTO:+0100
TZNAME:BST
DTSTART:20090329T010000
END:DAYLIGHT
BEGIN:STANDARD
TZOFFSETFROM:+0100
TZOFFSETTO:+0000
TZNAME:GMT
DTSTART:20091025T010000
END:STANDARD
BEGIN:DAYLIGHT
TZOFFSETFROM:+0000
TZOFFSETTO:+0100
TZNAME:BST
DTSTART:20100328T010000
END:DAYLIGHT
BEGIN:STANDARD
TZOFFSETFROM:+0100
TZOFFSETTO:+0000
TZNAME:GMT
DTSTART:20101031T010000
END:STANDARD
BEGIN:DAYLIGHT
TZOFFSETFROM:+0000
TZOFFSETTO:+0100
TZNAME:BST
DTSTART:20110327T010000
END:DAYLIGHT
BEGIN:STANDARD
TZOFFSETFROM:+0100
TZOFFSETTO:+0000
TZNAME:GMT
DTSTART:20111030T010000
END:STANDARD
BEGIN:DAYLIGHT
TZOFFSETFROM:+0000
TZOFFSETTO:+0100
TZNAME:BST
DTSTART:20120325T010000
END:DAYLIGHT
BEGIN:STANDARD
TZOFFSETFROM:+0100
TZOFFSETTO:+0000
TZNAME:GMT
DTSTART:20121028T010000
END:STANDARD
BEGIN:DAYLIGHT
TZOFFSETFROM:+0000
TZOFFSETTO:+0100
TZNAME:BST
DTSTART:20130331T010000
END:DAYLIGHT
BEGIN:STANDARD
TZOFFSETFROM:+0100
TZOFFSETTO:+0000
TZNAME:GMT
DTSTART:20131027T010000
END:STANDARD
BEGIN:DAYLIGHT
TZOFFSETFROM:+0000
TZOFFSETTO:+0100
TZNAME:BST
DTSTART:20140330T010000
END:DAYLIGHT
BEGIN:STANDARD
TZOFFSETFROM:+0100
TZOFFSETTO:+0000
TZNAME:GMT
DTSTART:20141026T010000
END:STANDARD
BEGIN:DAYLIGHT
TZOFFSETFROM:+0000
TZOFFSETTO:+0100
TZNAME:BST
DTSTART:20150329T010000
END:DAYLIGHT
BEGIN:STANDARD
TZOFFSETFROM:+0100
TZOFFSETTO:+0000
TZNAME:GMT
DTSTART:20151025T010000
END:STANDARD
BEGIN:DAYLIGHT
TZOFFSETFROM:+0000
TZOFFSETTO:+0100
TZNAME:BST
DTSTART:20160327T010000
END:DAYLIGHT
BEGIN:STANDARD
TZOFFSETFROM:+0100
TZOFFSETTO:+0000
TZNAME:GMT
DTSTART:20161030T010000
END:STANDARD
END:VTIMEZONE
BEGIN:VEVENT
DTSTART;TZID=Europe/London:20150907T080000
DTEND;TZID=Europe/London:20151005T170000
DTSTAMP:20260424T024541
CREATED:20150108T143524Z
LAST-MODIFIED:20150108T143524Z
UID:623-1441612800-1444064400@ibp.org.uk
SUMMARY:National Journalism Awards -  Judging
DESCRIPTION:Following the online judging period the final ‘live’ judging session will take place on Monday 5th October.
URL:https://ibp.org.uk/event/national-journalism-awards-judging/
END:VEVENT
BEGIN:VEVENT
DTSTART;TZID=Europe/London:20150904T080000
DTEND;TZID=Europe/London:20150904T170000
DTSTAMP:20260424T024541
CREATED:20150108T143312Z
LAST-MODIFIED:20150108T143312Z
UID:622-1441353600-1441386000@ibp.org.uk
SUMMARY:National Journalism Awards - Closing Date for Entries
DESCRIPTION:
URL:https://ibp.org.uk/event/national-journalism-awards-closing-date-for-entries/
END:VEVENT
BEGIN:VEVENT
DTSTART;TZID=Europe/London:20150901T080000
DTEND;TZID=Europe/London:20150901T170000
DTSTAMP:20260424T024541
CREATED:20150306T150626Z
LAST-MODIFIED:20150306T150626Z
UID:1619-1441094400-1441126800@ibp.org.uk
SUMMARY:SEPTEMBER Futures Group
DESCRIPTION:Suggestions for a subject welcome \nDate etc TBC
URL:https://ibp.org.uk/event/september-futures-group/
END:VEVENT
BEGIN:VEVENT
DTSTART;VALUE=DATE:20150825
DTEND;VALUE=DATE:20150826
DTSTAMP:20260424T024541
CREATED:20150108T143159Z
LAST-MODIFIED:20150310T103821Z
UID:621-1440460800-1440547199@ibp.org.uk
SUMMARY:National Journalism Awards - Call for Entries
DESCRIPTION:Covering published and online articles for the 12 months ending 28th August 2015
URL:https://ibp.org.uk/event/national-journalism-awards-call-for-entries/
END:VEVENT
BEGIN:VEVENT
DTSTART;TZID=Europe/London:20150709T183000
DTEND;TZID=Europe/London:20150709T223000
DTSTAMP:20260424T024541
CREATED:20150108T142927Z
LAST-MODIFIED:20150604T084652Z
UID:619-1436466600-1436481000@ibp.org.uk
SUMMARY:Communication & PR Awards - Award presentations and networking party
DESCRIPTION:The Award presentations and networking party will take place on Thursday 9th July on the roof top Sky Bar\, Grange hotel overlooking St Paul’s.\nHosted by: Gorkana Group\nSpeaker: To be announced
URL:https://ibp.org.uk/event/communication-pr-awards-award-presentations-and-networking-party/
LOCATION:Grange St.Paul’s Hotel\, 10 Godliman Street\,\,  London \, EC4V 5AJ\, United Kingdom
ORGANIZER;CN="Gerald Bowey":MAILTO:gerald@Geraldbowey.co.uk
END:VEVENT
BEGIN:VEVENT
DTSTART;TZID=Europe/London:20150701T080000
DTEND;TZID=Europe/London:20150701T170000
DTSTAMP:20260424T024541
CREATED:20150306T150232Z
LAST-MODIFIED:20150306T150232Z
UID:1618-1435737600-1435770000@ibp.org.uk
SUMMARY:IBP Virtual AGM
DESCRIPTION:Date etc TBC.
URL:https://ibp.org.uk/event/ibp-virtual-agm/
END:VEVENT
BEGIN:VEVENT
DTSTART;TZID=Europe/London:20150610T190000
DTEND;TZID=Europe/London:20150610T203000
DTSTAMP:20260424T024541
CREATED:20150306T145605Z
LAST-MODIFIED:20150310T103546Z
UID:1617-1433962800-1433968200@ibp.org.uk
SUMMARY:The Annual Wren Talk  - Accident or Artifice? Designing a capital from Wren to Abercrombie
DESCRIPTION:Simon Thurley takes a broad historical perspective on the planning of London \nHosted by St Bride’s Church in association with London Festival of Architecture
URL:https://ibp.org.uk/event/the-annual-wren-talk-accident-or-artifice-designing-a-capital-from-wren-to-abercrombie/
LOCATION:St Bride’s Church\, \, Fleet Street\, London EC4\, EC4 8AU\, United Kingdom
ORGANIZER;CN="Gerald Bowey":MAILTO:gerald@Geraldbowey.co.uk
END:VEVENT
BEGIN:VEVENT
DTSTART;TZID=Europe/London:20150610T190000
DTEND;TZID=Europe/London:20150610T201500
DTSTAMP:20260424T024541
CREATED:20150511T090637Z
LAST-MODIFIED:20150511T091310Z
UID:1832-1433962800-1433967300@ibp.org.uk
SUMMARY:THE ANNUAL WREN TALK - SIMON THURLEY
DESCRIPTION:ACCIDENT OR ARTIFICE? DESIGNING A CAPITAL FROM WREN TO ABERCROMBIE \nSimon Thurley takes a broad historical perspective on the planning of London from the Great Fire to the Blitz. He asks what are the defining characteristics of London’s growth and how have they contributed to the city we have today. \nWhat makes London like the other great European capitals and what sets it apart? \nDo the efforts of our predecessors from the seventeenth century onwards hold lessons for us now – or are they just history? \nCan London learn from its own past\, or is it better off concentrating on the future? \nPaul Finch OBE\, editorial director of The Architects’ Journal\, will introduce The Wren Talk\, which takes place as part of the London Festival of Architecture. \nTickets \nDoor £15\, Online Tickets £10 available at: www.stbrides.com \nFree for students. Submit your request via email: gloria@stbrides.com \nDownload PDF of Event Details
URL:https://ibp.org.uk/event/the-annual-wren-talk-simon-thurley/
LOCATION:St Bride’s Church\, \, Fleet Street\, London EC4\, EC4 8AU\, United Kingdom
END:VEVENT
BEGIN:VEVENT
DTSTART;TZID=Europe/London:20150511T183000
DTEND;TZID=Europe/London:20150511T203000
DTSTAMP:20260424T024541
CREATED:20150306T144539Z
LAST-MODIFIED:20150401T071931Z
UID:1614-1431369000-1431376200@ibp.org.uk
SUMMARY:IBP Futures Group THE DIGITAL DISRUPTORS
DESCRIPTION:Digital media is transforming the relationship between journalists and their audience. Pushing beyond the recreation of print content online\, our pioneering panel of digital journalists discuss how new possibilities are opening up. \nChaired by Claer Barrett of FT.com\, the event will explore what established publications can learn from these digital natives who are creating and interacting with new online communities in the built environment. \nHosted by: Edelman \nTime: Registration 6.00pm starts 6.30pm \nVenue: Southside\, 103 Victoria Street\, SW1E 6QT \nSpeakers: \nAmanda Baillieu\, Archiboo: The resource helps architects become more creative in how they run and grow their practices through shared new thinking and new connections. \nAntony Oliver\, Infrastructure Intelligence: An information resource for the infrastructure\, design and operation sector of the built environment. \nPaul Norman\, CoStar: News breaking daily and weekly Commercial Property updates. \nMark Wilding\, The Dalstonist: The news and lifestyle hub which focuses on the independent creative community in Hackney. \nTo book your place please email me on gerald@geraldbowey.co.uk
URL:https://ibp.org.uk/event/ibp-futures-group-the-digital-disruptors/
LOCATION:Southside\, 103 Victoria Street\, London\,  SW1E 6QT\, United Kingdom
ORGANIZER;CN="Gerald Bowey":MAILTO:gerald@Geraldbowey.co.uk
END:VEVENT
BEGIN:VEVENT
DTSTART;TZID=Europe/London:20150228T080000
DTEND;TZID=Europe/London:20150228T170000
DTSTAMP:20260424T024541
CREATED:20150108T142201Z
LAST-MODIFIED:20150108T142222Z
UID:618-1425110400-1425142800@ibp.org.uk
SUMMARY:Communication & PR Awards - Closing Date for Entries
DESCRIPTION:Entries will be called\, with full details at the end of February\, the closing date is Friday 17th April. Interviews will take place on: Thursday 14th\, Friday 15th and Monday 18th May at a central London location.
URL:https://ibp.org.uk/event/communication-pr-awards-closing-date-for-entries/
END:VEVENT
BEGIN:VEVENT
DTSTART;TZID=Europe/London:20150223T183000
DTEND;TZID=Europe/London:20150223T210000
DTSTAMP:20260424T024541
CREATED:20150107T134556Z
LAST-MODIFIED:20150217T144759Z
UID:615-1424716200-1424725200@ibp.org.uk
SUMMARY:IBP Futures Group: The Digital News Room: The Great Race.
DESCRIPTION:Hosted by Edelman \nA panel of online editors will discuss some of the ‘drivers’ for gathering\, assessing and delivering quality news items at a moments notice. Chaired by Claer Barrett\, Senior Reporter\, FT.com \n  \nThe Digital Disruptors \nDigital media is transforming the relationship between journalists and their audience. Pushing beyond the recreation of print content online\, our pioneering panel of digital journalists discuss how new possibilities are opening up. \nChaired by Claer Barrett of FT.com\, the event will explore what established publications can learn from these digital natives who are creating and interacting with new online communities in the built environment. \nHosted by: Edelman\nTime/Venue: Registration 6. 00pm starts 6.30pm: Southside\, 103 Victoria Street\, SW1E 6QT \nSpeakers:\nAmanda Baillieu\, Archiboo: The resource helps architects become more creative in how they run and grow their practices through shared new thinking and new connections. \nAntony Oliver\, Infrastructure Intelligence: An information resource for the infrastructure\, design and operation sector of the built environment. \nPaul Norman\, CoStar: News breaking daily and weekly Commercial Property updates. \nMark Wilding\, The Dalstonist The news and lifestyle hub which focuses on the independent creative community in Hackney. \nTo book your place email Gerald Bowey at gerald@geraldbowey.co.uk \nWhile there is no charge for this event places are limited and will allocated on a dated email basis.
URL:https://ibp.org.uk/event/ibp-futures-group-the-digital-news-room-the-great-race/
LOCATION:Southside\, 103 Victoria Street\, London\,  SW1E 6QT\, United Kingdom
ORGANIZER;CN="Gerald Bowey":MAILTO:gerald@Geraldbowey.co.uk
END:VEVENT
BEGIN:VEVENT
DTSTART;TZID=Europe/London:20150219T183000
DTEND;TZID=Europe/London:20150219T220000
DTSTAMP:20260424T024541
CREATED:20130924T120210Z
LAST-MODIFIED:20150219T130410Z
UID:1458-1424370600-1424383200@ibp.org.uk
SUMMARY:The Welbeck Annual Strategic Land Debate 2013
DESCRIPTION:Hosted by: Hogan Lovells\nVenue: Atlantic House\, Holborn Viaduct\, EC1A 2FG\nProgramme: 6pm Registration\nChair: Stuart Macdonald\, Editor\, Inside Housing
URL:https://ibp.org.uk/event/the-welbeck-annual-strategic-land-debate-2013/
LOCATION:Atlantic House\, Holborn Viaduct\, London\, EC1A 2FG\, United Kingdom
END:VEVENT
BEGIN:VEVENT
DTSTART;TZID=Europe/London:20141212T184500
DTEND;TZID=Europe/London:20141212T184500
DTSTAMP:20260424T024541
CREATED:20141211T161716Z
LAST-MODIFIED:20141211T170820Z
UID:449-1418409900-1418409900@ibp.org.uk
SUMMARY:Communications Industry Carol Service
DESCRIPTION:Communications Industry Carol Service\nFamily\, Friends and Colleagues welcome\nSt Bride’s Church\, Fleet Street\, London EC4 \nMonday 12th December\, 6.30pm\n(Please be in your seat by 6.20 at the latest) \nJoin other communications groups for a Christmas Carol Concert at St Bride’s Church and share in a\nprogramme of traditional and contemporary carols\, readings and music\, including the renowned St.Bride’s\nChoir\, guest performers\, Aisling Agnew (Flute) and Matthew McAllister (Guitar) and the Barretts of Fleet\nStreet will play Christmas (Claer Barrett: Tenor Sax) Bob Kidby (Guitar)\nChristmas Message by: Rachel Johnson\, Editor\, The Lady. \nThis is the one time in the year when the whole of the communications industry\, irrespective of professional\nor religious aliations\, can come together and sing with one voice! Members are encouraged to bring along\nfamily and friends to the Service. \nPlease note that while this event is free please email Gerald Bowey on gerald@Geraldbowey.co.uk or return\nthe form below\, if you would like to come to the Carol Service\, as allocated seating is always snapped-up\nearly. \nA complimentary mince pie and a pay bar will be available at The Press House Wine Bar\, to the rear and\nunderneath the Church at 1 St Bride’s Passage. IBP will have its own dedicated area\, so look out for IBP’s logo\,\nand arrange to meet your friends and colleagues for some Christmas cheer! \nSupported by: Association of Online Publishers; ABC UK; Chartered Institute of Journalists; Chartered Institute of Public\nRelations; Gorkana; Incorporated Society of British Advertisers; Institute of Practitioners in Advertising; International\nAdvertising Association UK Chapter; International Building Press; London Press Club; Professional Publishers Association;\nSociety of Editors; The Advertising Association; Women in Advertising & Communications London and the Worshipful\nCompany of Marketors.
URL:https://ibp.org.uk/event/communications-industry-carol-service/
LOCATION:St Bride’s Church\, \, Fleet Street\, London EC4\, EC4 8AU\, United Kingdom
ORGANIZER;CN="Gerald Bowey":MAILTO:gerald@Geraldbowey.co.uk
END:VEVENT
BEGIN:VEVENT
DTSTART;TZID=Europe/London:20141127T183000
DTEND;TZID=Europe/London:20141127T220000
DTSTAMP:20260424T024541
CREATED:20141127T131559Z
LAST-MODIFIED:20150219T132015Z
UID:1464-1417113000-1417125600@ibp.org.uk
SUMMARY:IBP Annual National Journalism Awards Dinner 2014
DESCRIPTION:In a year that has provided great campaigning journalism\, in our business magazines\, including blacklisting of construction workers (winner of both the News and Features categories) housing and welfare\, personal rights and fraud all grabbing the news headlines the judges commented\, on more than one occasion\, that the quality of the investigative writing would have not been out of place in a national newspaper.
URL:https://ibp.org.uk/event/ibp-annual-national-journalism-awards-dinner-2014/
LOCATION:Four Seasons Hotel\, Hamilton Place \, London\,  W1J 7DR\, United Kingdom
ORGANIZER;CN="Gerald Bowey":MAILTO:gerald@Geraldbowey.co.uk
END:VEVENT
BEGIN:VEVENT
DTSTART;TZID=Europe/London:20141119T063000
DTEND;TZID=Europe/London:20141119T220000
DTSTAMP:20260424T024541
CREATED:20141119T143917Z
LAST-MODIFIED:20150219T123631Z
UID:624-1416378600-1416434400@ibp.org.uk
SUMMARY:National Journalism Awards - Awards Presentation dinner 2014
DESCRIPTION:The Awards Presentation dinner will take place on Thursday 19th November at the Four Seasons hotel\, Park Lane.
URL:https://ibp.org.uk/event/national-journalism-awards-awards-presentation-dinner/
LOCATION:Four Seasons Hotel\, Hamilton Place \, London\,  W1J 7DR\, United Kingdom
ORGANIZER;CN="Gerald Bowey":MAILTO:gerald@Geraldbowey.co.uk
END:VEVENT
BEGIN:VEVENT
DTSTART;TZID=Europe/London:20141016T063000
DTEND;TZID=Europe/London:20141016T220000
DTSTAMP:20260424T024541
CREATED:20141016T121421Z
LAST-MODIFIED:20150219T131543Z
UID:1463-1413441000-1413496800@ibp.org.uk
SUMMARY:The Annual Strategic Land Debate
DESCRIPTION:Hosted by: Hogan Lovells
URL:https://ibp.org.uk/event/the-annual-strategic-land-debate/
LOCATION:Atlantic House\, Holborn Viaduct\, London\, EC1A 2FG\, United Kingdom
ORGANIZER;CN="Gerald Bowey":MAILTO:gerald@Geraldbowey.co.uk
END:VEVENT
BEGIN:VEVENT
DTSTART;TZID=Europe/London:20140626T183000
DTEND;TZID=Europe/London:20140626T220000
DTSTAMP:20260424T024541
CREATED:20140626T120659Z
LAST-MODIFIED:20150219T130950Z
UID:1460-1403807400-1403820000@ibp.org.uk
SUMMARY:IBP Communication & PR Awards 2014
DESCRIPTION:Awards Ceremony and Summer Party
URL:https://ibp.org.uk/event/ibp-communication-pr-awards-2014/
LOCATION:Four Seasons Hotel\, Hamilton Place \, London\,  W1J 7DR\, United Kingdom
ORGANIZER;CN="Gerald Bowey":MAILTO:gerald@Geraldbowey.co.uk
END:VEVENT
BEGIN:VEVENT
DTSTART;TZID=Europe/London:20140523T183000
DTEND;TZID=Europe/London:20140523T210000
DTSTAMP:20260424T024541
CREATED:20140523T121200Z
LAST-MODIFIED:20150219T131353Z
UID:1462-1400869800-1400878800@ibp.org.uk
SUMMARY:IBP Face-to-Face for 10 Minutes
DESCRIPTION:10 minute slots with editors and journalists
URL:https://ibp.org.uk/event/ibp-face-to-face-for-10-minutes/
LOCATION:The Building Centre\, 26 Store Street\, London\, WC1E 7BT\, United Kingdom
ORGANIZER;CN="Gerald Bowey":MAILTO:gerald@Geraldbowey.co.uk
END:VEVENT
BEGIN:VEVENT
DTSTART;TZID=Europe/London:20140317T080000
DTEND;TZID=Europe/London:20140317T170000
DTSTAMP:20260424T024541
CREATED:20140317T131000Z
LAST-MODIFIED:20150219T131138Z
UID:1461-1395043200-1395075600@ibp.org.uk
SUMMARY:IBP Futures Group "FREEDOM OF INFORMATION"
DESCRIPTION:“FREEDOM OF INFORMATION” Fact from Fiction\nChaired by: Claer Barrett\, Deputy UK News Editor\, Financial Times\nHosted by: Edelman
URL:https://ibp.org.uk/event/ibp-futures-group-freedom-of-information/
LOCATION:Atlantic House\, Holborn Viaduct\, London\, EC1A 2FG\, United Kingdom
ORGANIZER;CN="Gerald Bowey":MAILTO:gerald@Geraldbowey.co.uk
END:VEVENT
BEGIN:VEVENT
DTSTART;TZID=Europe/London:20131121T063000
DTEND;TZID=Europe/London:20131121T220000
DTSTAMP:20260424T024541
CREATED:20131121T130415Z
LAST-MODIFIED:20150219T130607Z
UID:1459-1385015400-1385071200@ibp.org.uk
SUMMARY:IBP Annual National Journalism Awards Dinner 2013
DESCRIPTION:Hosted by: Peter Murray\, Director\, London Festival of Architecture
URL:https://ibp.org.uk/event/ibp-annual-national-journalism-awards-dinner-2013/
LOCATION:Four Seasons Hotel\, Hamilton Place \, London\,  W1J 7DR\, United Kingdom
ORGANIZER;CN="Gerald Bowey":MAILTO:gerald@Geraldbowey.co.uk
END:VEVENT
BEGIN:VEVENT
DTSTART;TZID=Europe/London:20130620T183000
DTEND;TZID=Europe/London:20130620T220000
DTSTAMP:20260424T024541
CREATED:20130620T115511Z
LAST-MODIFIED:20150219T130139Z
UID:1456-1371753000-1371765600@ibp.org.uk
SUMMARY:IBP Summer Party -  Presentation: Communication & PR Awards 2013
DESCRIPTION: 
URL:https://ibp.org.uk/event/ibp-summer-party-presentation-communication-pr-awards-2013/
LOCATION:McQueen\, 55-61 Tabernacle Street\, Shoreditch\, London\, EC2A 4AA\, United Kingdom
ORGANIZER;CN="Gerald Bowey":MAILTO:gerald@Geraldbowey.co.uk
END:VEVENT
BEGIN:VEVENT
DTSTART;TZID=Europe/London:20130226T183000
DTEND;TZID=Europe/London:20130226T220000
DTSTAMP:20260424T024541
CREATED:20130226T125134Z
LAST-MODIFIED:20150219T125454Z
UID:1455-1361903400-1361916000@ibp.org.uk
SUMMARY:IBP Futures Group “LIFE ON THE NATIONALS”
DESCRIPTION:Claer Barrett\, FT; Graham Ruddick\, The Daily Telegraph;\nDeirdre Hipwell\, The Times; Oliver Shah\, The Sunday Times\nAnd Ed Hammond\, FT.\nHosted by Edelman.
URL:https://ibp.org.uk/event/ibp-futures-group-life-on-the-nationals/
LOCATION:Southside\, 103 Victoria Street\, London\,  SW1E 6QT\, United Kingdom
ORGANIZER;CN="Gerald Bowey":MAILTO:gerald@Geraldbowey.co.uk
END:VEVENT
BEGIN:VEVENT
DTSTART;TZID=Europe/London:20111124T063000
DTEND;TZID=Europe/London:20111124T220000
DTSTAMP:20260424T024541
CREATED:20111124T122545Z
LAST-MODIFIED:20150219T122941Z
UID:1451-1322116200-1322172000@ibp.org.uk
SUMMARY:IBP Annual National Journalism Awards Dinner
DESCRIPTION:Guest Speaker & Awards Presented by: TBA \nHosted by: Peter Murray\, Director\, New London Architecture Gallery
URL:https://ibp.org.uk/event/ibp-annual-national-journalism-awards-dinner/
LOCATION:Chelsea Football Club\, Stamford Bridge\, Fulham Road\, London\, SW6 1HS\, United Kingdom
ORGANIZER;CN="Gerald Bowey":MAILTO:gerald@Geraldbowey.co.uk
END:VEVENT
BEGIN:VEVENT
DTSTART;TZID=Europe/London:20110616T183000
DTEND;TZID=Europe/London:20110616T220000
DTSTAMP:20260424T024541
CREATED:20110616T112323Z
LAST-MODIFIED:20150219T122530Z
UID:1450-1308249000-1308261600@ibp.org.uk
SUMMARY:IBP Summer Party 2011
DESCRIPTION:The Welbeck Annual Strategic Land Debate\nHosted by: Hogan Lovells and in association with Welbeck Land \n“Will localisation of planning help or hinder us in “The Big Society”? \nChaired by: Giles Barrie\, Editor-in-Chief\, Property Week \nFollowed at approximately 6.30PM by the IBP Summer Party Plus: Presentation of the Subscription and In-House Magazine of the Year Awards Full programme to be circulated in April
URL:https://ibp.org.uk/event/ibp-summer-party-2011/
LOCATION:Atlantic House\, Holborn Viaduct\, London\, EC1A 2FG\, United Kingdom
ORGANIZER;CN="Gerald Bowey":MAILTO:gerald@Geraldbowey.co.uk
END:VEVENT
BEGIN:VEVENT
DTSTART;TZID=Europe/London:20110411T183000
DTEND;TZID=Europe/London:20110411T183000
DTSTAMP:20260424T024541
CREATED:20110411T112134Z
LAST-MODIFIED:20150219T122303Z
UID:1449-1302546600-1302546600@ibp.org.uk
SUMMARY:Futures Group Interview
DESCRIPTION:Hosted by: Building Design Partnership \nGood old fashioned journalism and how rare it has become? \nVeteran property and planning journalist Mira Bar-Hillel\, Property Correspondent\, The Evening Standard speaks out to Claer Barrett\, Retail Correspondent\, Financial Times\, about her journalistic triumphs\, and gives no-holds-barred advice to younger journalists.
URL:https://ibp.org.uk/event/futures-group-interview-2/
LOCATION:BDP Clerkenwell Studio\, Brewhouse Yard\, London\, EC1V 4LJ
ORGANIZER;CN="Gerald Bowey":MAILTO:gerald@Geraldbowey.co.uk
END:VEVENT
BEGIN:VEVENT
DTSTART;TZID=Europe/London:20101125T183000
DTEND;TZID=Europe/London:20101125T220000
DTSTAMP:20260424T024541
CREATED:20101125T114841Z
LAST-MODIFIED:20150219T120708Z
UID:1438-1290709800-1290722400@ibp.org.uk
SUMMARY:IBP Annual National Journalism Awards Dinner 2010
DESCRIPTION:Guest Speaker & Awards Presented by: Peter Freeman\, Founder\, Non-Executive Director\, Argent (TBC) \nHosted by: Nick Ferrari\, LBC
URL:https://ibp.org.uk/event/ibp-annual-national-journalism-awards-dinner-2010/
LOCATION:Imperial College\,  College Information Imperial College London Address  South Kensington Campus\, London\, SW7 2AZ
ORGANIZER;CN="Gerald Bowey":MAILTO:gerald@Geraldbowey.co.uk
END:VEVENT
BEGIN:VEVENT
DTSTART;TZID=Europe/London:20100930T183000
DTEND;TZID=Europe/London:20100930T220000
DTSTAMP:20260424T024541
CREATED:20100930T110912Z
LAST-MODIFIED:20150219T121227Z
UID:1442-1285871400-1285884000@ibp.org.uk
SUMMARY:Futures Group Interview
DESCRIPTION:The Media Minefield Defused! \nHosted by Davenport Lyons \nFormat: Claer Barrett\, Property Editor\, Investors Chronicle \nPuts your ‘worst nightmare’ questions to a panel of print and online media lawyers
URL:https://ibp.org.uk/event/futures-group-interview/
LOCATION:Davenport Lyons\, 30 Old Burlington Street\,\, London\, W1S 3NL\, United Kingdom
ORGANIZER;CN="Gerald Bowey":MAILTO:gerald@Geraldbowey.co.uk
END:VEVENT
BEGIN:VEVENT
DTSTART;TZID=Europe/London:20100701T183000
DTEND;TZID=Europe/London:20100701T220000
DTSTAMP:20260424T024541
CREATED:20100701T111245Z
LAST-MODIFIED:20150219T121613Z
UID:1444-1278009000-1278021600@ibp.org.uk
SUMMARY:Around the Property World in 18 Minutes
DESCRIPTION:Plus: Presentation of the In House Magazine of the Year Awards \nHosted by: BDP \nGuest Speakers: Paul Finch and Peter Bill
URL:https://ibp.org.uk/event/around-the-property-world-in-18-minutes/
LOCATION:BDP Clerkenwell Studio\, Brewhouse Yard\, London\, EC1V 4LJ
ORGANIZER;CN="Gerald Bowey":MAILTO:gerald@Geraldbowey.co.uk
END:VEVENT
BEGIN:VEVENT
DTSTART;TZID=Europe/London:20100607T183000
DTEND;TZID=Europe/London:20100607T183000
DTSTAMP:20260424T024541
CREATED:20100607T111627Z
LAST-MODIFIED:20150219T121929Z
UID:1446-1275935400-1275935400@ibp.org.uk
SUMMARY:Futures Group Reception
DESCRIPTION:Hosted by: Hogan Lovells In association with: Willmott Dixon \nClear Barrett interviews John Waples\, former journalist on Estates Times and City Editor of the Sunday Times
URL:https://ibp.org.uk/event/futures-group-reception/
LOCATION:Atlantic House\, Holborn Viaduct\, London\, EC1A 2FG\, United Kingdom
ORGANIZER;CN="Gerald Bowey":MAILTO:gerald@Geraldbowey.co.uk
END:VEVENT
BEGIN:VEVENT
DTSTART;TZID=Europe/London:20091212T183000
DTEND;TZID=Europe/London:20091212T220000
DTSTAMP:20260424T024541
CREATED:20091203T112036Z
LAST-MODIFIED:20150219T112325Z
UID:1430-1260642600-1260655200@ibp.org.uk
SUMMARY:IBP Annual National Journalism Awards 2009
DESCRIPTION:Presented by:\nThe Prince of Wales\, President\, The Prince’s Foundation for the Built Environment \nHosted by:\nPeter Murray\, Director\, New London Architecture Gallery \nReception:\nStrangers’ Dinning Room \nDinner:\nMembers’ Dinning Room
URL:https://ibp.org.uk/event/ibp-annual-national-journalism-awards-2009/
LOCATION:The Houses of Parliament\, Westminster\,  London\,  SW1A 0AA\, United Kingdom
ORGANIZER;CN="Gerald Bowey":MAILTO:gerald@Geraldbowey.co.uk
END:VEVENT
END:VCALENDAR